BEGIN:VCALENDAR
VERSION:2.0
PRODID:-//eroding empire - ECPv6.15.14//NONSGML v1.0//EN
CALSCALE:GREGORIAN
METHOD:PUBLISH
X-ORIGINAL-URL:https://www.eroding.org.uk
X-WR-CALDESC:Events for eroding empire
REFRESH-INTERVAL;VALUE=DURATION:PT1H
X-Robots-Tag:noindex
X-PUBLISHED-TTL:PT1H
BEGIN:VTIMEZONE
TZID:Europe/London
BEGIN:DAYLIGHT
TZOFFSETFROM:+0000
TZOFFSETTO:+0100
TZNAME:BST
DTSTART:20250330T010000
END:DAYLIGHT
BEGIN:STANDARD
TZOFFSETFROM:+0100
TZOFFSETTO:+0000
TZNAME:GMT
DTSTART:20251026T010000
END:STANDARD
BEGIN:DAYLIGHT
TZOFFSETFROM:+0000
TZOFFSETTO:+0100
TZNAME:BST
DTSTART:20260329T010000
END:DAYLIGHT
BEGIN:STANDARD
TZOFFSETFROM:+0100
TZOFFSETTO:+0000
TZNAME:GMT
DTSTART:20261025T010000
END:STANDARD
BEGIN:DAYLIGHT
TZOFFSETFROM:+0000
TZOFFSETTO:+0100
TZNAME:BST
DTSTART:20270328T010000
END:DAYLIGHT
BEGIN:STANDARD
TZOFFSETFROM:+0100
TZOFFSETTO:+0000
TZNAME:GMT
DTSTART:20271031T010000
END:STANDARD
BEGIN:DAYLIGHT
TZOFFSETFROM:+0000
TZOFFSETTO:+0100
TZNAME:BST
DTSTART:20280326T010000
END:DAYLIGHT
BEGIN:STANDARD
TZOFFSETFROM:+0100
TZOFFSETTO:+0000
TZNAME:GMT
DTSTART:20281029T010000
END:STANDARD
END:VTIMEZONE
BEGIN:VEVENT
DTSTART;TZID=Europe/London:20261001T190000
DTEND;TZID=Europe/London:20261001T190000
DTSTAMP:20260421T022302
CREATED:20260116T142726Z
LAST-MODIFIED:20260116T143734Z
UID:4567-1790881200-1790881200@www.eroding.org.uk
SUMMARY:First Thursday Freedom board game night!
DESCRIPTION:Come and join us for a night of frivolity\, fun and friendly competition. Every 1st Friday of the month. Next one is the 5th February\, 7pm Decentre.
URL:https://www.eroding.org.uk/event/first-thursday-freedom-board-game-night-9/
LOCATION:Freedom Bookshop\, Angel Alley\, 84b Whitechapel High Street\, E1 7QX
CATEGORIES:Bookshops/Libraries
ATTACH;FMTTYPE=image/webp:https://www.eroding.org.uk/wp-content/uploads/2025/08/1289_image_bloc_0.webp
END:VEVENT
BEGIN:VEVENT
DTSTART;TZID=Europe/London:20261011T110000
DTEND;TZID=Europe/London:20261011T110000
DTSTAMP:20260421T022302
CREATED:20260216T022943Z
LAST-MODIFIED:20260216T172518Z
UID:5442-1791716400-1791716400@www.eroding.org.uk
SUMMARY:Anarchist Breakfast Club
DESCRIPTION:Hackney Anarchists are back conquering bread 🍞  \nEvery second Sunday of the month find us at the centre of Hackney downs cooking together\, sharing food and discussing politics.   \nOur food is free to share with whomever might need it or want it. Everyone is welcome\, no questions asked.  \nWe are hoping to share food and its preparation with those who want to join. Come at 11 to help us prep and cook. This is also a joyful way to have political conversations and develop mutual aid tools.  \nThis is a shared process and everyone can get involved however they want. We also welcome ingredients\, leads for food sourcing\, recipe suggestions (vegan)\, or just your company.  \n🍲 Abolish the bourgeoise butter bean! We feed ourselves 🏴
URL:https://www.eroding.org.uk/event/anarchist-breakfast-club-8/
LOCATION:Hackney Downs Park\, \, E5 8NP
CATEGORIES:Meetings
ATTACH;FMTTYPE=image/jpeg:https://www.eroding.org.uk/wp-content/uploads/2026/02/5434_image_signal-2026-02-15-20-59-07-607.jpg
END:VEVENT
BEGIN:VEVENT
DTSTART;TZID=Europe/London:20261015T190000
DTEND;TZID=Europe/London:20261015T200000
DTSTAMP:20260421T022302
CREATED:20260406T022923Z
LAST-MODIFIED:20260413T161559Z
UID:5898-1792090800-1792094400@www.eroding.org.uk
SUMMARY:Monthly Drop In
DESCRIPTION:Need advice about an issue with your boss or landlord? Want support organising in your workplace or community? Want to talk about anarchism or syndicalism? Want to meet members of the group and find out how SolFed works? Just want to say hi? Then come see us at one of these drop in sessions. We will be on the top floor of LARC.
URL:https://www.eroding.org.uk/event/monthly-drop-in-12/
LOCATION:LARC\, 62 Fieldgate St\, E1 1ES
CATEGORIES:Meetings
END:VEVENT
BEGIN:VEVENT
DTSTART;TZID=Europe/London:20261030T200000
DTEND;TZID=Europe/London:20261030T235000
DTSTAMP:20260421T022302
CREATED:20260317T022942Z
LAST-MODIFIED:20260317T182537Z
UID:5715-1793390400-1793404200@www.eroding.org.uk
SUMMARY:Red and Black Club
DESCRIPTION:Come to the London Action Resource Centre (LARC)\, 61 Fieldgate Street E1 1ES\, for a monthly social and fundraiser. From 8pm until midnight you can meet up with other anarchists for a chill time to chat\, gripe\, and possibly even plot. The Red and Black Club is last Friday of the month. We do not have an alcohol license so none will be sold in LARC\, but feel free to bring your own booze. Suggested donation of £10 on the door\, but no one will be turned away for lack of money. Half of this will go to LARC to keep the space running and half will got a new zine called Anarchy which we hope to distribute for free.
URL:https://www.eroding.org.uk/event/red-and-black-club-8/
LOCATION:LARC\, 62 Fieldgate St\, E1 1ES
CATEGORIES:Gatherings
ATTACH;FMTTYPE=image/jpeg:https://www.eroding.org.uk/wp-content/uploads/2026/03/5707_image_red_and_black_social_flyer.jpg
END:VEVENT
BEGIN:VEVENT
DTSTART;TZID=Europe/London:20261105T190000
DTEND;TZID=Europe/London:20261105T190000
DTSTAMP:20260421T022302
CREATED:20260116T142727Z
LAST-MODIFIED:20260116T143746Z
UID:4568-1793905200-1793905200@www.eroding.org.uk
SUMMARY:First Thursday Freedom board game night!
DESCRIPTION:Come and join us for a night of frivolity\, fun and friendly competition. Every 1st Friday of the month. Next one is the 5th February\, 7pm Decentre.
URL:https://www.eroding.org.uk/event/first-thursday-freedom-board-game-night-10/
LOCATION:Freedom Bookshop\, Angel Alley\, 84b Whitechapel High Street\, E1 7QX
CATEGORIES:Bookshops/Libraries
ATTACH;FMTTYPE=image/webp:https://www.eroding.org.uk/wp-content/uploads/2025/08/1289_image_bloc_0.webp
END:VEVENT
BEGIN:VEVENT
DTSTART;TZID=Europe/London:20261108T110000
DTEND;TZID=Europe/London:20261108T110000
DTSTAMP:20260421T022302
CREATED:20260216T022944Z
LAST-MODIFIED:20260216T172151Z
UID:5443-1794135600-1794135600@www.eroding.org.uk
SUMMARY:Anarchist Breakfast Club
DESCRIPTION:Hackney Anarchists are back conquering bread 🍞  \nEvery second Sunday of the month find us at the centre of Hackney downs cooking together\, sharing food and discussing politics.   \nOur food is free to share with whomever might need it or want it. Everyone is welcome\, no questions asked.  \nWe are hoping to share food and its preparation with those who want to join. Come at 11 to help us prep and cook. This is also a joyful way to have political conversations and develop mutual aid tools.  \nThis is a shared process and everyone can get involved however they want. We also welcome ingredients\, leads for food sourcing\, recipe suggestions (vegan)\, or just your company.  \n🍲 Abolish the bourgeoise butter bean! We feed ourselves 🏴
URL:https://www.eroding.org.uk/event/anarchist-breakfast-club-9/
LOCATION:Hackney Downs Park\, \, E5 8NP
CATEGORIES:Meetings
ATTACH;FMTTYPE=image/jpeg:https://www.eroding.org.uk/wp-content/uploads/2026/02/5434_image_signal-2026-02-15-20-59-07-607.jpg
END:VEVENT
BEGIN:VEVENT
DTSTART;TZID=Europe/London:20261114T180000
DTEND;TZID=Europe/London:20261114T180000
DTSTAMP:20260421T022302
CREATED:20260401T022955Z
LAST-MODIFIED:20260404T144510Z
UID:5831-1794679200-1794679200@www.eroding.org.uk
SUMMARY:SLS presents RIFFS AGAINST FASCISM
DESCRIPTION:South London Scum is proud to present:\nSaturday 14th November 2026\nRIFFS AGAINST FASCISM\nfeaturing the talents of:\nVICIOUS IRENE (Sweden)\nhttps://viciousirene.bandcamp.com/\nHIATUS (Belgium)\nhttps://ruinnationrecords.bandcamp.com/album/out-of-hand\nDISCIPLE BC (Bristol)\nhttps://disciplebc.bandcamp.com/\nCOMMONER (London/Norwich)\nhttps://commoner666.bandcamp.com/\n@ the New Cross Inn\, 323 New Cross Rd\, London SE14 6AS.\n6pm doors\, bands on until 11pm.\n£15 advance tickets // £17  on the door. \n 
URL:https://www.eroding.org.uk/event/sls-presents-riffs-against-fascism/
LOCATION:New Cross Inn\, 323 New Cross Rd\, SE14 6AS
CATEGORIES:Gigs
ATTACH;FMTTYPE=image/jpeg:https://www.eroding.org.uk/wp-content/uploads/2026/04/5831_image_november14.2026.riffs_.web_.jpg
END:VEVENT
BEGIN:VEVENT
DTSTART;TZID=Europe/London:20261119T190000
DTEND;TZID=Europe/London:20261119T200000
DTSTAMP:20260421T022302
CREATED:20260406T022924Z
LAST-MODIFIED:20260413T161546Z
UID:5899-1795114800-1795118400@www.eroding.org.uk
SUMMARY:Monthly Drop In
DESCRIPTION:Need advice about an issue with your boss or landlord? Want support organising in your workplace or community? Want to talk about anarchism or syndicalism? Want to meet members of the group and find out how SolFed works? Just want to say hi? Then come see us at one of these drop in sessions. We will be on the top floor of LARC.
URL:https://www.eroding.org.uk/event/monthly-drop-in-13/
LOCATION:LARC\, 62 Fieldgate St\, E1 1ES
CATEGORIES:Meetings
END:VEVENT
BEGIN:VEVENT
DTSTART;TZID=Europe/London:20261127T200000
DTEND;TZID=Europe/London:20261127T235000
DTSTAMP:20260421T022302
CREATED:20260317T022943Z
LAST-MODIFIED:20260317T182547Z
UID:5716-1795809600-1795823400@www.eroding.org.uk
SUMMARY:Red and Black Club
DESCRIPTION:Come to the London Action Resource Centre (LARC)\, 61 Fieldgate Street E1 1ES\, for a monthly social and fundraiser. From 8pm until midnight you can meet up with other anarchists for a chill time to chat\, gripe\, and possibly even plot. The Red and Black Club is last Friday of the month. We do not have an alcohol license so none will be sold in LARC\, but feel free to bring your own booze. Suggested donation of £10 on the door\, but no one will be turned away for lack of money. Half of this will go to LARC to keep the space running and half will got a new zine called Anarchy which we hope to distribute for free.
URL:https://www.eroding.org.uk/event/red-and-black-club-9/
LOCATION:LARC\, 62 Fieldgate St\, E1 1ES
CATEGORIES:Gatherings
ATTACH;FMTTYPE=image/jpeg:https://www.eroding.org.uk/wp-content/uploads/2026/03/5707_image_red_and_black_social_flyer.jpg
END:VEVENT
BEGIN:VEVENT
DTSTART;TZID=Europe/London:20261213T110000
DTEND;TZID=Europe/London:20261213T110000
DTSTAMP:20260421T022302
CREATED:20260216T022945Z
LAST-MODIFIED:20260216T172135Z
UID:5444-1797159600-1797159600@www.eroding.org.uk
SUMMARY:Anarchist Breakfast Club
DESCRIPTION:Hackney Anarchists are back conquering bread 🍞  \nEvery second Sunday of the month find us at the centre of Hackney downs cooking together\, sharing food and discussing politics.   \nOur food is free to share with whomever might need it or want it. Everyone is welcome\, no questions asked.  \nWe are hoping to share food and its preparation with those who want to join. Come at 11 to help us prep and cook. This is also a joyful way to have political conversations and develop mutual aid tools.  \nThis is a shared process and everyone can get involved however they want. We also welcome ingredients\, leads for food sourcing\, recipe suggestions (vegan)\, or just your company.  \n🍲 Abolish the bourgeoise butter bean! We feed ourselves 🏴
URL:https://www.eroding.org.uk/event/anarchist-breakfast-club-10/
LOCATION:Hackney Downs Park\, \, E5 8NP
CATEGORIES:Meetings
ATTACH;FMTTYPE=image/jpeg:https://www.eroding.org.uk/wp-content/uploads/2026/02/5434_image_signal-2026-02-15-20-59-07-607.jpg
END:VEVENT
BEGIN:VEVENT
DTSTART;TZID=Europe/London:20270110T110000
DTEND;TZID=Europe/London:20270110T110000
DTSTAMP:20260421T022302
CREATED:20260216T022946Z
LAST-MODIFIED:20260216T172122Z
UID:5445-1799578800-1799578800@www.eroding.org.uk
SUMMARY:Anarchist Breakfast Club
DESCRIPTION:Hackney Anarchists are back conquering bread 🍞  \nEvery second Sunday of the month find us at the centre of Hackney downs cooking together\, sharing food and discussing politics.   \nOur food is free to share with whomever might need it or want it. Everyone is welcome\, no questions asked.  \nWe are hoping to share food and its preparation with those who want to join. Come at 11 to help us prep and cook. This is also a joyful way to have political conversations and develop mutual aid tools.  \nThis is a shared process and everyone can get involved however they want. We also welcome ingredients\, leads for food sourcing\, recipe suggestions (vegan)\, or just your company.  \n🍲 Abolish the bourgeoise butter bean! We feed ourselves 🏴
URL:https://www.eroding.org.uk/event/anarchist-breakfast-club-11/
LOCATION:Hackney Downs Park\, \, E5 8NP
CATEGORIES:Meetings
ATTACH;FMTTYPE=image/jpeg:https://www.eroding.org.uk/wp-content/uploads/2026/02/5434_image_signal-2026-02-15-20-59-07-607.jpg
END:VEVENT
BEGIN:VEVENT
DTSTART;TZID=Europe/London:20270214T110000
DTEND;TZID=Europe/London:20270214T110000
DTSTAMP:20260421T022302
CREATED:20260216T022946Z
LAST-MODIFIED:20260216T172110Z
UID:5446-1802602800-1802602800@www.eroding.org.uk
SUMMARY:Anarchist Breakfast Club
DESCRIPTION:Hackney Anarchists are back conquering bread 🍞  \nEvery second Sunday of the month find us at the centre of Hackney downs cooking together\, sharing food and discussing politics.   \nOur food is free to share with whomever might need it or want it. Everyone is welcome\, no questions asked.  \nWe are hoping to share food and its preparation with those who want to join. Come at 11 to help us prep and cook. This is also a joyful way to have political conversations and develop mutual aid tools.  \nThis is a shared process and everyone can get involved however they want. We also welcome ingredients\, leads for food sourcing\, recipe suggestions (vegan)\, or just your company.  \n🍲 Abolish the bourgeoise butter bean! We feed ourselves 🏴
URL:https://www.eroding.org.uk/event/anarchist-breakfast-club-12/
LOCATION:Hackney Downs Park\, \, E5 8NP
CATEGORIES:Meetings
ATTACH;FMTTYPE=image/jpeg:https://www.eroding.org.uk/wp-content/uploads/2026/02/5434_image_signal-2026-02-15-20-59-07-607.jpg
END:VEVENT
END:VCALENDAR