BEGIN:VCALENDAR
VERSION:2.0
PRODID:-//eroding empire - ECPv6.15.14//NONSGML v1.0//EN
CALSCALE:GREGORIAN
METHOD:PUBLISH
X-WR-CALNAME:eroding empire
X-ORIGINAL-URL:https://www.eroding.org.uk
X-WR-CALDESC:Events for eroding empire
REFRESH-INTERVAL;VALUE=DURATION:PT1H
X-Robots-Tag:noindex
X-PUBLISHED-TTL:PT1H
BEGIN:VTIMEZONE
TZID:Europe/London
BEGIN:DAYLIGHT
TZOFFSETFROM:+0000
TZOFFSETTO:+0100
TZNAME:BST
DTSTART:20250330T010000
END:DAYLIGHT
BEGIN:STANDARD
TZOFFSETFROM:+0100
TZOFFSETTO:+0000
TZNAME:GMT
DTSTART:20251026T010000
END:STANDARD
BEGIN:DAYLIGHT
TZOFFSETFROM:+0000
TZOFFSETTO:+0100
TZNAME:BST
DTSTART:20260329T010000
END:DAYLIGHT
BEGIN:STANDARD
TZOFFSETFROM:+0100
TZOFFSETTO:+0000
TZNAME:GMT
DTSTART:20261025T010000
END:STANDARD
BEGIN:DAYLIGHT
TZOFFSETFROM:+0000
TZOFFSETTO:+0100
TZNAME:BST
DTSTART:20270328T010000
END:DAYLIGHT
BEGIN:STANDARD
TZOFFSETFROM:+0100
TZOFFSETTO:+0000
TZNAME:GMT
DTSTART:20271031T010000
END:STANDARD
END:VTIMEZONE
BEGIN:VEVENT
DTSTART;TZID=Europe/London:20260421T180000
DTEND;TZID=Europe/London:20260421T180000
DTSTAMP:20260421T035852
CREATED:20260307T022927Z
LAST-MODIFIED:20260308T013748Z
UID:5649-1776794400-1776794400@www.eroding.org.uk
SUMMARY:Insurgent // Prozpekt // The Burial Code // Paresthesia | Real Life @ New Cross Inn
DESCRIPTION:Real Life Presents \nInsurgent\nBlastbeat emocore from France\n[www.instagram.com/insurgenthxc/\nProzpekt\nHeavy NEHC\n[www.instagram.com/prozpekt.prz/\nThe Burial Code\nThree Swords Fury\n[www.instagram.com/theburialcode/\nParesthesia\nDeathcore youth\n[www.instagram.com/paresthesiaband/\n21st April\n£12\nDoors 6pm\nNew Cross Inn\n14+\, u16s with an adult\nhttps://pit.live/events/insurgent-prozpekt
URL:https://www.eroding.org.uk/event/insurgent-prozpekt-the-burial-code-paresthesia-real-life-new-cross-inn/
LOCATION:New Cross Inn\, 323 New Cross Rd\, SE14 6AS
CATEGORIES:Gigs
ATTACH;FMTTYPE=image/png:https://www.eroding.org.uk/wp-content/uploads/2026/03/5649_image_insurgent_gig.png
END:VEVENT
BEGIN:VEVENT
DTSTART;TZID=Europe/London:20260421T183000
DTEND;TZID=Europe/London:20260421T183000
DTSTAMP:20260421T035852
CREATED:20260415T143012Z
LAST-MODIFIED:20260415T211125Z
UID:5996-1776796200-1776796200@www.eroding.org.uk
SUMMARY:Black feminist reading group
DESCRIPTION:https://www.eventbrite.co.uk/e/black-feminist-reading-group-tickets-1987… \nJoin us to reflect and imagine together. There’s no set text\, instead we’ll be led by what we bring to this space together.\nThe Black Feminist Reading Group is back next week!\nJoin us on Tuesday 21 April\, 6:30–8:30pm at the Feminist Library (please note the change to our end time).\nThis month\, we’ll be taking time to reflect and imagine together. There’s no set text\, instead we’ll be led by what we bring to this space together.\nWe invite you to:\n– Bring a short piece of your own reflective writing\n– Bring an item (a book\, photo\, or object) that represents your connection to Black Feminism\nOur discussion will be centred on some creative reflection activities. We’ll be looking back on what we’ve read together\, exploring what Black Feminism means to us\, and imagining what this reading group is and could become.\nWhat does the space we create here mean to us? What are we building together?\nNew members are very welcome. Please fill out the membership form here: https://forms.gle/BeGjijCiB5rU3KQu7\nPlease sign up via Eventbrite so we can prepare the space. For questions\, email nonki@feministlibrary.co.uk\nReminder: This is a closed space for Black and POC folks.
URL:https://www.eroding.org.uk/event/black-feminist-reading-group/
LOCATION:The Feminist Library\, 161 Sumner Road\, SE15 6JL
CATEGORIES:Bookshops/Libraries,Meetings
ATTACH;FMTTYPE=image/png:https://www.eroding.org.uk/wp-content/uploads/2026/04/5996_image_black_feminist_reading_group_april_26_image_-_feminist_library.png
END:VEVENT
END:VCALENDAR